BEGIN:VCALENDAR
VERSION:2.0
PRODID:-//ChamberMaster//Event Calendar 2.0//EN
METHOD:PUBLISH
X-PUBLISHED-TTL:P3D
REFRESH-INTERVAL:P3D
CALSCALE:GREGORIAN
BEGIN:VEVENT
DTSTART:20130613T183000Z
DTEND:20130613T183000Z
X-MICROSOFT-CDO-ALLDAYEVENT:FALSE
SUMMARY:106th Annual Installation Luncheon
DESCRIPTION:Installation of Officers & Board and saluting\n\n \n\nJohn Smalley\, Man of the Year\n\n\n\nStacy Margolin\, Woman of the Year\n\n\n\nOrange County Emergency Pet Clinic\, Small Business of the Year\n\n\n\nCrowne Plaza Resort\, Large Business of the Year\n\n\n\nAcacia Adult Day Services & Garden Grove Rotary\,\n\nNonprofit of the Year.
X-ALT-DESC;FMTTYPE=text/html:<div style="text-align: center\;"><span style="font-size: 16px\;"><span style="color: rgb(0\, 0\, 128)\;">Installation of Officers &amp\; Board and saluting</span></span><br />\n&nbsp\;</div>\n\n<div style="text-align: center\;"><span style="font-size: 16px\;"><span style="color: rgb(0\, 0\, 128)\;">John Smalley\, Man of the Year<br />\n<br />\nStacy Margolin\, Woman of the Year<br />\n<br />\nOrange County Emergency Pet Clinic\, Small Business of the Year<br />\n<br />\nCrowne&nbsp\;Plaza Resort\, Large Business of the Year<br />\n<br />\nAcacia Adult Day Services &amp\; Garden Grove Rotary\,<br />\nNonprofit of the Year.</span></span></div>\n
LOCATION:Embassy Suites 11767 Harbor Blvd. Garden Grove\, CA 92840
UID:e.1315.1179
SEQUENCE:3
DTSTAMP:20260425T120506Z
URL:http://member.gardengrovechamber.com/events/details/106th-annual-installation-luncheon-06-13-2013-1179
END:VEVENT

END:VCALENDAR
