BEGIN:VCALENDAR
VERSION:2.0
PRODID:-//ChamberMaster//Event Calendar 2.0//EN
METHOD:PUBLISH
X-PUBLISHED-TTL:P3D
REFRESH-INTERVAL:P3D
CALSCALE:GREGORIAN
BEGIN:VEVENT
DTSTART:20150712T010000Z
DTEND:20150712T040000Z
X-MICROSOFT-CDO-ALLDAYEVENT:FALSE
SUMMARY:109th Annual Gala
DESCRIPTION:Join us at our 109th Annual Gala dinner "Celebrating Community Pride" which we will honor our Long Standing Members\, our 2015 Man & Woman of the Year\; Terry B. and Jo Ann Thomas\, and Outgoing and Incoming Board of Directors of the Garden Grove Chamber of Commerce and the Women's Division.
X-ALT-DESC;FMTTYPE=text/html:Join us at our <em><strong>109th Annual Gala</strong></em> dinner "Celebrating Community Pride" which we will honor our Long Standing Members\, our 2015 Man &amp\; Woman of the Year\; Terry B. and Jo Ann Thomas\, and Outgoing and Incoming Board of Directors of the Garden Grove Chamber of Commerce and the Women's Division.&nbsp\;
LOCATION:Embassy Suites Anaheim 11767 Harbor Blvd. Garden Grove\, CA 92840
UID:e.1315.2935
SEQUENCE:3
DTSTAMP:20260423T205111Z
URL:http://member.gardengrovechamber.com/events/details/109th-annual-gala-07-11-2015-2935
END:VEVENT

END:VCALENDAR
