BEGIN:VCALENDAR
VERSION:2.0
PRODID:-//ChamberMaster//Event Calendar 2.0//EN
METHOD:PUBLISH
X-PUBLISHED-TTL:P3D
REFRESH-INTERVAL:P3D
CALSCALE:GREGORIAN
BEGIN:VEVENT
DTSTART:20160313T020000Z
DTEND:20160313T050000Z
X-MICROSOFT-CDO-ALLDAYEVENT:FALSE
SUMMARY:110th Annual Gala
DESCRIPTION:Join us at our 110th Annual Gala dinner. There will be a special presentation by Jim Tortolano celebrating the City of Garden Grove's 60 Year Anniversary!
X-ALT-DESC;FMTTYPE=text/html:Join us at our <em><strong>110th Annual Gala</strong></em> dinner. There will be a special presentation by <strong><em>Jim Tortolano</em></strong> celebrating the City of Garden Grove&#39\;s 60 Year Anniversary!
LOCATION:Great Wolf Lodge So California 12681 Harbor Blvd. Garden Grove\, CA 92840
UID:e.1315.4965
SEQUENCE:3
DTSTAMP:20260421T040823Z
URL:http://member.gardengrovechamber.com/events/details/110th-annual-gala-03-12-2016-4965
END:VEVENT

END:VCALENDAR
