BEGIN:VCALENDAR
VERSION:2.0
PRODID:-//ChamberMaster//Event Calendar 2.0//EN
METHOD:PUBLISH
X-PUBLISHED-TTL:P3D
REFRESH-INTERVAL:P3D
CALSCALE:GREGORIAN
BEGIN:VEVENT
DTSTART;VALUE=DATE:20160504
DTEND;VALUE=DATE:20160505
TRANSP:TRANSPARENT
X-MICROSOFT-CDO-ALLDAYEVENT:TRUE
SUMMARY:12th Annual Golf Classic!
DESCRIPTION:12th Annual Golf Classic hosted by the Garden Grove Chamber of Commerce and Garden Grove Community Foundation.\n\n\n\nRegistration is full. To be put on a wait list please call:\n\n(714) 741-5291
X-ALT-DESC;FMTTYPE=text/html:<div><strong><em>12th Annual Golf Classic</em></strong> hosted by the Garden Grove Chamber of Commerce and Garden Grove Community Foundation.<br />\n<br />\nRegistration is full. To be put on a wait list please call:<br />\n(714) 741-5291</div>\n
LOCATION:Willowick Golf Course 3017 W. 5th Street Santa Ana\, CA 92703
UID:e.1315.5103
SEQUENCE:3
DTSTAMP:20260420T233232Z
URL:http://member.gardengrovechamber.com/events/details/12th-annual-golf-classic-05-04-2016-5103
END:VEVENT

END:VCALENDAR
