BEGIN:VCALENDAR
VERSION:2.0
PRODID:-//ChamberMaster//Event Calendar 2.0//EN
METHOD:PUBLISH
X-PUBLISHED-TTL:P3D
REFRESH-INTERVAL:P3D
CALSCALE:GREGORIAN
BEGIN:VEVENT
DTSTART:20140424T180000Z
DTEND:20140424T203000Z
X-MICROSOFT-CDO-ALLDAYEVENT:FALSE
SUMMARY:2014 Recognition Luncheon
DESCRIPTION:Dayle McIntosh Center Board and Staff welcomes you to join them at their "Apple of Our Eye" 2014 Recognition Luncheon "Past\, Present and Future".   Guest Speakers at this luncheon will be Richard Devylder and Angela Rockwood of Push Girls - "Best Reality Series".  There will be a Silent Auction and Recognition Awards.
X-ALT-DESC;FMTTYPE=text/html:Dayle McIntosh Center Board and Staff welcomes you to join them at their &quot\;Apple of Our Eye&quot\; 2014 Recognition Luncheon &quot\;Past\, Present and Future&quot\;. &nbsp\; Guest Speakers at this luncheon will be Richard Devylder and Angela Rockwood of Push Girls - &quot\;Best Reality Series&quot\;. &nbsp\;There will be a Silent Auction and Recognition Awards.
LOCATION:Embassy Suites Anaheim 11767 Harbor Blvd. Garden Grove\, CA 92840
UID:e.1315.1497
SEQUENCE:3
DTSTAMP:20260424T191401Z
URL:http://member.gardengrovechamber.com/events/details/2014-recognition-luncheon-04-24-2014-1497
END:VEVENT

END:VCALENDAR
