BEGIN:VCALENDAR
VERSION:2.0
PRODID:-//ChamberMaster//Event Calendar 2.0//EN
METHOD:PUBLISH
X-PUBLISHED-TTL:P3D
REFRESH-INTERVAL:P3D
CALSCALE:GREGORIAN
BEGIN:VEVENT
DTSTART:20160927T210000Z
DTEND:20160928T020000Z
X-MICROSOFT-CDO-ALLDAYEVENT:FALSE
SUMMARY:2016 Diversity Matchmaking Procurement
DESCRIPTION:Join the Orange County Hispanic Chamber of Commerce at the 2016 Diversity Matchmaking Procurement conference. More than 300 people attended last year's conference and engaged with private and public business leaders\, procurement officers and decision makers. This event is ideal for small businesses interested in procurement\, contracting and partnership with leading public agencies and corporations.
X-ALT-DESC;FMTTYPE=text/html:Join the Orange County Hispanic Chamber of Commerce at the 2016 Diversity Matchmaking Procurement conference. More than 300 people attended last year&#39\;s conference and engaged with private and public business leaders\, procurement officers and decision makers. This event is ideal for small businesses interested in procurement\, contracting and partnership with leading public agencies and corporations.&nbsp\;
LOCATION:Wyndham Anaheim Garden Grove 12021 Harbor Blvd.\, Garden Grove\, CA 92840
UID:e.1315.6007
SEQUENCE:3
DTSTAMP:20260420T165338Z
URL:http://member.gardengrovechamber.com/events/details/2016-diversity-matchmaking-procurement-6007
END:VEVENT

END:VCALENDAR
