BEGIN:VCALENDAR
VERSION:2.0
PRODID:-//ChamberMaster//Event Calendar 2.0//EN
METHOD:PUBLISH
X-PUBLISHED-TTL:P3D
REFRESH-INTERVAL:P3D
CALSCALE:GREGORIAN
BEGIN:VEVENT
DTSTART:20160528T150000Z
DTEND:20160528T163000Z
X-MICROSOFT-CDO-ALLDAYEVENT:FALSE
SUMMARY:2016 Strawberry Stomp 5K Run/Walk
DESCRIPTION:Whether you like to walk or run\, you can join the Strawberry Stomp 5K Run/Walk. This is fun for the entire family. The Strawberry Festival Parade follows after. \n\n\n\nThis event benefits the Sister City Association of Garden Grove\, a 501(c)(3) Nonprofit Organization!
X-ALT-DESC;FMTTYPE=text/html:Whether you like to walk or run\, you can join the Strawberry Stomp 5K Run/Walk. This is fun for the entire family. The Strawberry Festival Parade follows after.&nbsp\;<br />\n<br />\n<strong><em>This event benefits the Sister City Association of Garden Grove\, a 501(c)(3) Nonprofit Organization!</em></strong>
LOCATION:Race starts at 8:00 am at Garden Grove Historic Main Street
UID:e.1315.5677
SEQUENCE:3
DTSTAMP:20260420T233417Z
URL:http://member.gardengrovechamber.com/events/details/2016-strawberry-stomp-5k-run-walk-05-28-2016-5677
END:VEVENT

END:VCALENDAR
