BEGIN:VCALENDAR
VERSION:2.0
PRODID:-//ChamberMaster//Event Calendar 2.0//EN
METHOD:PUBLISH
X-PUBLISHED-TTL:P3D
REFRESH-INTERVAL:P3D
CALSCALE:GREGORIAN
BEGIN:VEVENT
DTSTART:20170908T000000Z
DTEND:20170908T033000Z
X-MICROSOFT-CDO-ALLDAYEVENT:FALSE
SUMMARY:2017 Bowling Tournament
DESCRIPTION:Come join us and register a team today at our Annual Employee Appreciation Bowling Tournament. There will be lots of fun\, food\, and a silent auction. Awards for first\, second\, and third place teams. We will have awards for best dress team\, most spirited and best team name.\n\n\n\nIf you would like to donate items for our gift bags or for the Silent Auction please contact us at 714-638-7950\n\n\n\n**Please note there is a time limit at this event. All 3 games MUST be completed by 8:00 pm. At that time your score will be calculated by the games you did complete and the lanes will be shut off.
X-ALT-DESC;FMTTYPE=text/html:<span style="font-size:14px\;"><span style="font-family:arial\;">Come join us and register a team today at our<strong> Annual Employee Appreciation Bowling Tournament.</strong>&nbsp\;There will be lots of fun\, food\, and a silent auction. Awards for first\, second\, and third place teams. We will have awards for best dress team\, most spirited and best team name.<br />\n<br />\nIf you would like to donate items for our gift bags or for the Silent Auction please contact us at 714-638-7950<br />\n<br />\n<strong>**<span style="color:black\;">Please note there is a time limit at this event. All 3 games MUST be completed by 8:00 pm. At that time your score will be calculated by the games you did complete and the lanes will be shut off.&nbsp\;</span></strong></span></span>
LOCATION:AMF Valley View Lanes 12141 Valley View Street Garden Grove\, CA 92845
UID:e.1315.6167
SEQUENCE:3
DTSTAMP:20260419T221935Z
URL:http://member.gardengrovechamber.com/events/details/2017-bowling-tournament-6167
END:VEVENT

END:VCALENDAR
