BEGIN:VCALENDAR
VERSION:2.0
PRODID:-//ChamberMaster//Event Calendar 2.0//EN
METHOD:PUBLISH
X-PUBLISHED-TTL:P3D
REFRESH-INTERVAL:P3D
CALSCALE:GREGORIAN
BEGIN:VEVENT
DTSTART:20170820T010000Z
DTEND:20170820T040000Z
X-MICROSOFT-CDO-ALLDAYEVENT:FALSE
SUMMARY:2017 Kiwanis Quarterly Poker Cup Tournament
DESCRIPTION:2017 Kiwanis Quarterly Poker Cup Tournament    \n\n\n\nPrizes + T-Shirts for Final Table | Raffle Prizes | 50/50 | $40 Buy-In includes Poker+Food+Drink tickets\n\n\n\nPoints will be accumulated and the player with the higheste points will be crowned Player of the Year. \n\n\n\nKiwanis of Greater Garden Grove will be hosting 4 poker tournaments this year. Each tournament will be dedicated to a specific charity and all procedds will be donated to that charity. Our third tournament of the year will be dedicated to H.O.P.E. (Celebrating 20 Years of Turning Despair into H.O.P.E.)
X-ALT-DESC;FMTTYPE=text/html:2017 Kiwanis Quarterly Poker Cup Tournament&nbsp\;&nbsp\;&nbsp\;&nbsp\;<br />\n<br />\nPrizes + T-Shirts for Final Table | Raffle Prizes | 50/50 | $40 Buy-In includes Poker+Food+Drink tickets<br />\n<br />\nPoints will be accumulated and the player with the higheste points will be crowned Player of the Year.&nbsp\;<br />\n<br />\nKiwanis of Greater Garden Grove will be hosting 4 poker tournaments this year. Each tournament will be dedicated to a specific charity and all procedds will be donated to that charity. Our third tournament of the year will be dedicated to H.O.P.E. (Celebrating 20 Years of Turning Despair into H.O.P.E.)
LOCATION:KiwanisLand 9840 Larson Avenue Garden Grove\, CA
UID:e.1315.6208
SEQUENCE:3
DTSTAMP:20260419T235941Z
URL:http://member.gardengrovechamber.com/events/details/2017-kiwanis-quarterly-poker-cup-tournament-6208
END:VEVENT

END:VCALENDAR
