BEGIN:VCALENDAR
VERSION:2.0
PRODID:-//ChamberMaster//Event Calendar 2.0//EN
METHOD:PUBLISH
X-PUBLISHED-TTL:P3D
REFRESH-INTERVAL:P3D
CALSCALE:GREGORIAN
BEGIN:VEVENT
DTSTART:20170608T183000Z
DTEND:20170608T200000Z
X-MICROSOFT-CDO-ALLDAYEVENT:FALSE
SUMMARY:2017 Leadership Appreciation Luncheon
DESCRIPTION:2nd Annual 2017 Leadership Appreciation Luncheon\n\nAs a valued Chamber member and supporter\, please join us for a complimentary luncheon* to celebrate the leaders in our Chamber and business community:\n\n2017-2018 Board of Directors & Women's Division Installation\n\nChamber Sponsors Recognition\n\nMember Appreciation
X-ALT-DESC;FMTTYPE=text/html:<strong>2nd Annual&nbsp\;2017 Leadership Appreciation Luncheon</strong><br />\nAs a valued Chamber member and supporter\, please join us for a complimentary luncheon* to celebrate the leaders in our Chamber and business community:<br />\n2017-2018 Board of Directors &amp\; Women&rsquo\;s Division Installation<br />\nChamber Sponsors Recognition<br />\nMember Appreciation
LOCATION:Garden Grove Community Meeting Center 11300 Stanford Avenue\, Garden Grove\, CA 92840
UID:e.1315.6145
SEQUENCE:3
DTSTAMP:20260420T030856Z
URL:http://member.gardengrovechamber.com/events/details/2017-leadership-appreciation-luncheon-6145
END:VEVENT

END:VCALENDAR
