BEGIN:VCALENDAR
VERSION:2.0
PRODID:-//ChamberMaster//Event Calendar 2.0//EN
METHOD:PUBLISH
X-PUBLISHED-TTL:P3D
REFRESH-INTERVAL:P3D
CALSCALE:GREGORIAN
BEGIN:VEVENT
DTSTART;VALUE=DATE:20170614
DTEND;VALUE=DATE:20170615
TRANSP:TRANSPARENT
X-MICROSOFT-CDO-ALLDAYEVENT:TRUE
SUMMARY:2017 Smiles Golf Tournament
DESCRIPTION:Wiping out tooth decay\, one swing at a time.\n\nPlease join us for our 3rd Annual Smiles Golf Tournament\, an event that helps sustain our vital treatment and education programs in Orange County. Mark your calendars this year's golf tournament will be held at Oak Creek Golf Club in Irvine on June 14th\, 2017.\n\nNot a golfer? You can still join the cause by joining us for dinner\, purchasing a sponsorship\, or donating to our silent auction. We are currently accepting tickets to special events\, restaurant vouchers\, fine wines\, vacation packages\, electronics (such as TVs\, iPads)\, and more!
X-ALT-DESC;FMTTYPE=text/html:<h5 style="box-sizing: border-box\; margin: 0px\; padding: 0px 0px 10px\; border: 0px\; outline: 0px\; background-image: initial\; background-position: initial\; background-size: initial\; background-repeat: initial\; background-attachment: initial\; background-origin: initial\; background-clip: initial\; font-size: 16px\; vertical-align: baseline\; line-height: 1em\; font-family: &quot\;Open Sans&quot\;\, Arial\, sans-serif\;"><span style="font-size:12px\;"><span style="color:#000000\;">Wiping out tooth decay\, one swing at a time.</span></span></h5>\n\n<p style="box-sizing: border-box\; margin: 0px\; padding: 0px 0px 1em\; border: 0px\; outline: 0px\; background-image: initial\; background-position: initial\; background-size: initial\; background-repeat: initial\; background-attachment: initial\; background-origin: initial\; background-clip: initial\; font-size: 14px\; vertical-align: baseline\; color: rgb(102\, 102\, 102)\; font-family: &quot\;Open Sans&quot\;\, Arial\, sans-serif\;"><span style="font-size:12px\;"><span style="color:#000000\;">Please join us for our 3rd Annual Smiles Golf Tournament\, an event that helps sustain our vital treatment and education programs in Orange County. Mark your calendars&mdash\;this year&rsquo\;s golf tournament will be held at Oak Creek Golf Club in Irvine on June 14th\, 2017.</span></span></p>\n\n<p style="box-sizing: border-box\; margin: 0px\; padding: 0px 0px 1em\; border: 0px\; outline: 0px\; background-image: initial\; background-position: initial\; background-size: initial\; background-repeat: initial\; background-attachment: initial\; background-origin: initial\; background-clip: initial\; font-size: 14px\; vertical-align: baseline\; color: rgb(102\, 102\, 102)\; font-family: &quot\;Open Sans&quot\;\, Arial\, sans-serif\;"><span style="font-size:12px\;"><span style="color:#000000\;">Not a golfer? You can still join the cause by joining us for dinner\, purchasing a sponsorship\, or donating to our silent auction. We are currently accepting tickets to special events\, restaurant vouchers\, fine wines\, vacation packages\, electronics (such as TVs\, iPads)\, and more!</span></span></p>\n
LOCATION:Oak Creek Golf Club 1 Golf Club Drive Irvine\, CA 92618
UID:e.1315.6143
SEQUENCE:3
DTSTAMP:20260420T030843Z
URL:http://member.gardengrovechamber.com/events/details/2017-smiles-golf-tournament-6143
END:VEVENT

END:VCALENDAR
