BEGIN:VCALENDAR
VERSION:2.0
PRODID:-//ChamberMaster//Event Calendar 2.0//EN
METHOD:PUBLISH
X-PUBLISHED-TTL:P3D
REFRESH-INTERVAL:P3D
CALSCALE:GREGORIAN
BEGIN:VEVENT
DTSTART:20141211T010000Z
DTEND:20141220T030000Z
X-MICROSOFT-CDO-ALLDAYEVENT:FALSE
SUMMARY:2nd Annual Christmas on Main Street
DESCRIPTION:Join us (WEEKNIGHTS) at the 2nd Annual Christmas on Main Street to sing Christmas songs\, watch the Holiday Train and drink wassail (hot cider)!\n\n\n\nBring an unwrapped gift for a child at Shriners Hospital for Chrippled Children and receive a 10% discount at the Main Street restaurant of your choice! (We ask that these gifts be UNWRAPPED and new\, not used items - Shriners have asked that no books be donated).
X-ALT-DESC;FMTTYPE=text/html:Join us (<strong>WEEKNIGHTS</strong>) at the <strong><span style="color:#FF0000\;"><em>2nd Annual Christmas on Main Street </em></span></strong>to sing Christmas songs\, watch the Holiday Train and drink wassail (hot cider)!<br />\n<br />\nBring an unwrapped gift for a child at Shriners Hospital for Chrippled Children and receive a 10% discount at the Main Street restaurant of your choice! (We ask that these gifts be UNWRAPPED and new\, not used items - Shriners have asked that <strong><u>no books</u></strong> be donated).
LOCATION:Main Street Station 12952 Main Street Garden Grove\, CA 92840
UID:e.1315.2287
SEQUENCE:3
DTSTAMP:20260424T074036Z
URL:http://member.gardengrovechamber.com/events/details/2nd-annual-christmas-on-main-street-12-10-2014-2287
END:VEVENT

END:VCALENDAR
