BEGIN:VCALENDAR
VERSION:2.0
PRODID:-//ChamberMaster//Event Calendar 2.0//EN
METHOD:PUBLISH
X-PUBLISHED-TTL:P3D
REFRESH-INTERVAL:P3D
CALSCALE:GREGORIAN
BEGIN:VEVENT
DTSTART:20141114T180000Z
DTEND:20141115T020000Z
X-MICROSOFT-CDO-ALLDAYEVENT:FALSE
SUMMARY:4th Annual Baskets & Bargains
DESCRIPTION:Assistance League of Garden Grove is having their 4th Annual Baskets & Bargains\, a Holiday extravaganza.  This event is open to the public.  Drop by and see the baskets\, bargains\, baked goods\, jewelry\, and much more!!! There will be tickets available to purchase for a cash drawing.
X-ALT-DESC;FMTTYPE=text/html:Assistance League of Garden Grove is having their 4th&nbsp\;Annual Baskets &amp\; Bargains\, a Holiday extravaganza. &nbsp\;This event is open to the public. &nbsp\;Drop by and see the baskets\, bargains\, baked goods\, jewelry\, and much more!!! There will be tickets available to purchase for a cash drawing.
LOCATION:Assistance League of Garden Grove 10932 Trask Avenue Garden Grove\, CA 92843
UID:e.1315.2238
SEQUENCE:3
DTSTAMP:20260424T090232Z
URL:http://member.gardengrovechamber.com/events/details/4th-annual-baskets-bargains-11-14-2014-2238
END:VEVENT

END:VCALENDAR
