BEGIN:VCALENDAR
VERSION:2.0
PRODID:-//ChamberMaster//Event Calendar 2.0//EN
METHOD:PUBLISH
X-PUBLISHED-TTL:P3D
REFRESH-INTERVAL:P3D
CALSCALE:GREGORIAN
BEGIN:VEVENT
DTSTART:20170409T140000Z
DTEND:20170409T180000Z
X-MICROSOFT-CDO-ALLDAYEVENT:FALSE
SUMMARY:69th Annual Pancake Breakfast - Garden Grove Host Lions Club
DESCRIPTION:Join the Garden Grove Host Lions Club at their 69th Annual Pancake Breakfast. They will be serving pancakes\, eggs\, sausage\, juice\, coffee and milk.\n\n\n\nAll funds are donated to charities and community service organizations!
X-ALT-DESC;FMTTYPE=text/html:Join the <em><strong>Garden Grove Host Lions Club</strong></em> at their <span style="color:#FF0000\;"><em><strong>69th Annual Pancake</strong></em></span> <span style="color:#FF0000\;"><strong><em>Breakfast</em></strong></span>. They will be serving pancakes\, eggs\, sausage\, juice\, coffee and milk.<br />\n<br />\nAll funds are donated to charities and community service organizations!
LOCATION:Kiwanisland Youth Park 9840 Larson Avenue Garden Grove\, CA 92842
UID:e.1315.6114
SEQUENCE:3
DTSTAMP:20260420T062526Z
URL:http://member.gardengrovechamber.com/events/details/69th-annual-pancake-breakfast-garden-grove-host-lions-club-6114
END:VEVENT

END:VCALENDAR
