BEGIN:VCALENDAR
VERSION:2.0
PRODID:-//ChamberMaster//Event Calendar 2.0//EN
METHOD:PUBLISH
X-PUBLISHED-TTL:P3D
REFRESH-INTERVAL:P3D
CALSCALE:GREGORIAN
BEGIN:VEVENT
DTSTART:20170519T170000Z
DTEND:20170520T000000Z
X-MICROSOFT-CDO-ALLDAYEVENT:FALSE
SUMMARY:6th Annual Hiring Fair
DESCRIPTION:Major corporations and local businesses attending\n	OC Cities and Government Agencies\n	Keynote speakers on career - related topics\n	Resume Writing Workshops\n	Professional headshots
X-ALT-DESC;FMTTYPE=text/html:<ul>\n	<li>Major corporations and local businesses attending</li>\n	<li>OC Cities and Government Agencies</li>\n	<li>Keynote speakers on career - related topics</li>\n	<li>Resume Writing Workshops</li>\n	<li>Professional headshots</li>\n</ul>\n
LOCATION:OC Fair & Event Center 88 Fair Drive Costa Mesa\, CA 92626
UID:e.1315.6148
SEQUENCE:3
DTSTAMP:20260420T044513Z
URL:http://member.gardengrovechamber.com/events/details/6th-annual-hiring-fair-6148
END:VEVENT

END:VCALENDAR
