BEGIN:VCALENDAR
VERSION:2.0
PRODID:-//ChamberMaster//Event Calendar 2.0//EN
METHOD:PUBLISH
X-PUBLISHED-TTL:P3D
REFRESH-INTERVAL:P3D
CALSCALE:GREGORIAN
BEGIN:VEVENT
DTSTART:20170824T213000Z
DTEND:20170825T030000Z
X-MICROSOFT-CDO-ALLDAYEVENT:FALSE
SUMMARY:9th Annual Green & Health Expo
DESCRIPTION:Founded in 2009 by former FACCOC President Linda Sarno\, the formerly "Go Green and Conserve" was created as the first environmentally-focused expo in the Orange County area hosted by an ethnic organization. The Go Green Expo was aimed at recognizing local businesses\, government agencies\, and other organizations who contribute toward a clean environment and healthy lifestyle.
X-ALT-DESC;FMTTYPE=text/html:<span style="color: rgb(0\, 0\, 0)\; font-family: Raleway\, serif\; font-size: 18px\;">Founded in 2009 by former FACCOC President Linda Sarno\, the formerly &ldquo\;Go Green and Conserve&rdquo\; was created as the first environmentally-focused expo in the Orange County area hosted by an ethnic organization. The Go Green Expo was aimed at recognizing local businesses\, government agencies\, and other organizations who contribute toward a clean environment and healthy lifestyle.</span>
LOCATION:Garden Grove Community Center 11300 Stanford Avenue Garden Grove\, CA 92840
UID:e.1315.6179
SEQUENCE:3
DTSTAMP:20260420T000122Z
URL:http://member.gardengrovechamber.com/events/details/9th-annual-green-health-expo-6179
END:VEVENT

END:VCALENDAR
