BEGIN:VCALENDAR
VERSION:2.0
PRODID:-//ChamberMaster//Event Calendar 2.0//EN
METHOD:PUBLISH
X-PUBLISHED-TTL:P3D
REFRESH-INTERVAL:P3D
CALSCALE:GREGORIAN
BEGIN:VEVENT
DTSTART:20151108T020000Z
DTEND:20151108T060000Z
X-MICROSOFT-CDO-ALLDAYEVENT:FALSE
SUMMARY:A Walk on the Boardwalk
DESCRIPTION:A Walk on the Boardwalk - Benefiting Acacia Adult Day Services. \n\nReservations Required!\n\nSilent & Live Auctions\, Opportunity Drawings
X-ALT-DESC;FMTTYPE=text/html:A Walk on the Boardwalk - Benefiting Acacia Adult Day Services.&nbsp\;<br />\n<strong>Reservations Required!</strong><br />\nSilent &amp\; Live Auctions\, Opportunity Drawings
LOCATION:Garden Grove Elks Lodge #1952 11551 Trask Avenue Garden Grove\, CA 92843
UID:e.1315.3067
SEQUENCE:3
DTSTAMP:20260423T151118Z
URL:http://member.gardengrovechamber.com/events/details/a-walk-on-the-boardwalk-11-07-2015-3067
END:VEVENT

END:VCALENDAR
