BEGIN:VCALENDAR
VERSION:2.0
PRODID:-//ChamberMaster//Event Calendar 2.0//EN
METHOD:PUBLISH
X-PUBLISHED-TTL:P3D
REFRESH-INTERVAL:P3D
CALSCALE:GREGORIAN
BEGIN:VEVENT
DTSTART:20180128T020000Z
DTEND:20180128T060000Z
X-MICROSOFT-CDO-ALLDAYEVENT:FALSE
SUMMARY:Acacia's Casino Night 2018
DESCRIPTION:For over 30 years\, Acacia has held an annual signature event to garner the support of the community and raise critical funds. This year the Acacia Casino Night will not only continue fundraising efforts\, but it will also celebrate two milestones for the organization: its 38th anniversary in the community\, and its recent merger with Alzheimer's Orange County. Like they say\, "the house always wins\," and this event will be no different as the evening's proceeds will benefit Acacia's incredible programs for OC's older adults. Go all in\, because there's no bet as to whether or not guests will have a fabulous evening!
X-ALT-DESC;FMTTYPE=text/html:<span style="color:#000000\;"><span style="font-family:arial\;"><span font-size:="" open="">For over 30 years\, Acacia has held an annual signature event to garner the support of the community and raise critical funds. This year the Acacia Casino Night will not only continue fundraising efforts\, but it will also celebrate two milestones for the organization: its 38th anniversary in the community\, and its recent merger with Alzheimer&rsquo\;s Orange County. Like they say\, &ldquo\;the house always wins\,&rdquo\; and this event will be no different as the evening&rsquo\;s proceeds will benefit Acacia&rsquo\;s incredible programs for OC&rsquo\;s older adults. Go all in\, because there&rsquo\;s no bet as to whether or not guests will have a fabulous evening!</span></span></span>
LOCATION:Acacia Adult Day Services 11391 Acacia Parkway Garden Grove\, CA 92840
UID:e.1315.6246
SEQUENCE:3
DTSTAMP:20260419T181738Z
URL:http://member.gardengrovechamber.com/events/details/acacia-s-casino-night-2018-6246
END:VEVENT

END:VCALENDAR
