BEGIN:VCALENDAR
VERSION:2.0
PRODID:-//ChamberMaster//Event Calendar 2.0//EN
METHOD:PUBLISH
X-PUBLISHED-TTL:P3D
REFRESH-INTERVAL:P3D
CALSCALE:GREGORIAN
BEGIN:VEVENT
DTSTART:20131205T200000Z
DTEND:20131205T210000Z
X-MICROSOFT-CDO-ALLDAYEVENT:FALSE
SUMMARY:Affordable Care Act Demystified
DESCRIPTION:The Garden Grove Chamber of Commerce invites you to join us for a lunch time seminar on the new Health Insurance Affordable Care Act.  Special Guest Speaker is Rick Liuag\, who is an industry professional who is certified to speak on requirements of the new health insurance law.
X-ALT-DESC;FMTTYPE=text/html:The Garden Grove Chamber of Commerce invites you to join us for a lunch time seminar on the new Health Insurance Affordable Care Act. &nbsp\;Special Guest Speaker is Rick Liuag\, who is an industry professional who is certified to speak on requirements of the new health insurance law.
LOCATION:Coastline Community College 12901 Euclid Street Garden Grove\, CA 92840
UID:e.1315.1319
SEQUENCE:3
DTSTAMP:20260425T015529Z
URL:http://member.gardengrovechamber.com/events/details/affordable-care-act-demystified-12-05-2013-1319
END:VEVENT

END:VCALENDAR
