BEGIN:VCALENDAR
VERSION:2.0
PRODID:-//ChamberMaster//Event Calendar 2.0//EN
METHOD:PUBLISH
X-PUBLISHED-TTL:P3D
REFRESH-INTERVAL:P3D
CALSCALE:GREGORIAN
BEGIN:VEVENT
DTSTART:20171117T223000Z
DTEND:20171118T010000Z
X-MICROSOFT-CDO-ALLDAYEVENT:FALSE
SUMMARY:Arches Open House
DESCRIPTION:Arches Open House\n\nCelebrating 12 Years of Service to the Community\n\n	Meet the Team\n	Enjoy Refreshments\n	Tour the Office\n	Learn about the services\n	Network with Partners\n	Win a Raffle\n\nJoin us as we honor Dr. Monique Nguyen\, O.D. for 10 years of dedicated service to children and families in our community!
X-ALT-DESC;FMTTYPE=text/html:Arches Open House<br />\nCelebrating 12 Years of Service to the Community\n<ul>\n	<li>Meet the Team</li>\n	<li>Enjoy Refreshments</li>\n	<li>Tour the Office</li>\n	<li>Learn about the services</li>\n	<li>Network with Partners</li>\n	<li>Win a Raffle</li>\n</ul>\nJoin us as we honor Dr. Monique Nguyen\, O.D. for 10 years of dedicated service to children and families in our community!
LOCATION:Children's Health & Dental Center 10602 Chapman Avenue\, Suite 101 Garden Grove\, CA
UID:e.1315.6243
SEQUENCE:3
DTSTAMP:20260419T210425Z
URL:http://member.gardengrovechamber.com/events/details/arches-open-house-6243
END:VEVENT

END:VCALENDAR
