BEGIN:VCALENDAR
VERSION:2.0
PRODID:-//ChamberMaster//Event Calendar 2.0//EN
METHOD:PUBLISH
X-PUBLISHED-TTL:P3D
REFRESH-INTERVAL:P3D
CALSCALE:GREGORIAN
BEGIN:VEVENT
DTSTART:20141102T003000Z
DTEND:20141102T040000Z
X-MICROSOFT-CDO-ALLDAYEVENT:FALSE
SUMMARY:Autumn Reflections 2014
DESCRIPTION:Soar into the Roaring 20's at Thomas House Family Shelter fundraiser.  There will be cocktail hour\, hors d'oeurves\, silent auction\, dinner and live auction.
X-ALT-DESC;FMTTYPE=text/html:Soar into the Roaring 20&#39\;s at Thomas House Family Shelter fundraiser. &nbsp\;There will be cocktail hour\, hors d&#39\;oeurves\, silent auction\, dinner and live auction.
LOCATION:Lyon Air Museum 19300 Ike Jones Road Santa Ana\, CA 92707
UID:e.1315.2097
SEQUENCE:3
DTSTAMP:20260424T090232Z
URL:http://member.gardengrovechamber.com/events/details/autumn-reflections-2014-11-01-2014-2097
END:VEVENT

END:VCALENDAR
