BEGIN:VCALENDAR
VERSION:2.0
PRODID:-//ChamberMaster//Event Calendar 2.0//EN
METHOD:PUBLISH
X-PUBLISHED-TTL:P3D
REFRESH-INTERVAL:P3D
CALSCALE:GREGORIAN
BEGIN:VEVENT
DTSTART:20150821T230000Z
DTEND:20150822T030000Z
X-MICROSOFT-CDO-ALLDAYEVENT:FALSE
SUMMARY:AZTECA: Elvis Every Friday in August
DESCRIPTION:Azteca Restaurant salutes the 20th Anniversary of Orange County's LONGEST-RUNNING Friday night Car Show by sponsoring Orange County's BEST Elvis Tribute performers to entertain you throughout August. \n\n\n\nTonight's performer is James King\, at 6:45 pm.
X-ALT-DESC;FMTTYPE=text/html:Azteca&nbsp\;Restaurant salutes the 20th Anniversary of Orange County&#39\;s LONGEST-RUNNING Friday night Car Show by sponsoring Orange County&#39\;s BEST Elvis Tribute performers&nbsp\;to entertain you throughout August.&nbsp\;<br />\n<br />\nTonight&#39\;s performer is James King\, at 6:45 pm.
LOCATION:Historic Main Street Car Show Garden Grove\, CA 92840
UID:e.1315.3429
SEQUENCE:3
DTSTAMP:20260423T205110Z
URL:http://member.gardengrovechamber.com/events/details/azteca-elvis-every-friday-in-august-08-21-2015-3429
END:VEVENT

END:VCALENDAR
