BEGIN:VCALENDAR
VERSION:2.0
PRODID:-//ChamberMaster//Event Calendar 2.0//EN
METHOD:PUBLISH
X-PUBLISHED-TTL:P3D
REFRESH-INTERVAL:P3D
CALSCALE:GREGORIAN
BEGIN:VEVENT
DTSTART:20171020T150000Z
DTEND:20171020T233000Z
X-MICROSOFT-CDO-ALLDAYEVENT:FALSE
SUMMARY:Barn and Book Sale!
DESCRIPTION:The Garden Grove Historical Society is holding their Annual Barn & Book Sale on Friday\, Saturday\, and Sunday. (October 20\, 21\, 22\, 2017)\n\n\n\n-PLEASE NOTE THE NEW DAYS-\n\n\n\nBooks\, paperbacks\, magazines\, records\, cd's\, dvd's\, audio tapes\, jewelry\, collectibles\, toys\, hobby\, crafts\, small appliances\, sewing\, clothing\, housewares\, furniture\, fabric\, tools\, artifacts and much more treasures!\n\n\n\nAll proceeds benefits Stanley Ranch Museum - Restoration and Development
X-ALT-DESC;FMTTYPE=text/html:The Garden Grove Historical Society is holding their Annual Barn &amp\; Book Sale on Friday\, Saturday\, and Sunday. (October 20\, 21\, 22\, 2017)<br />\n<br />\n-PLEASE NOTE THE NEW DAYS-<br />\n<br />\nBooks\, paperbacks\, magazines\, records\, cd&#39\;s\, dvd&#39\;s\, audio tapes\, jewelry\, collectibles\, toys\, hobby\, crafts\, small appliances\, sewing\, clothing\, housewares\, furniture\, fabric\, tools\, artifacts and much more treasures!<br />\n<br />\nAll proceeds benefits Stanley Ranch Museum - Restoration and Development
LOCATION:Garden Grove Historical Society 12174 Euclid Street Garden Grove\, CA
UID:e.1315.6221
SEQUENCE:3
DTSTAMP:20260419T223551Z
URL:http://member.gardengrovechamber.com/events/details/barn-and-book-sale-6221
END:VEVENT

END:VCALENDAR
