BEGIN:VCALENDAR
VERSION:2.0
PRODID:-//ChamberMaster//Event Calendar 2.0//EN
METHOD:PUBLISH
X-PUBLISHED-TTL:P3D
REFRESH-INTERVAL:P3D
CALSCALE:GREGORIAN
BEGIN:VEVENT
DTSTART:20140412T150000Z
DTEND:20140412T233000Z
X-MICROSOFT-CDO-ALLDAYEVENT:FALSE
SUMMARY:Barn & Book Sale
DESCRIPTION:The Garden Grove Historical Society is holding its Barn & Book Sale from April 10\, 2014 through April 12\, 2014 at 8:00 am to 4:30 pm.\n\n\n\nThere will be Books\, Paperbacks\, Magazines\, Records\, CD's\, DVD's\, Video & Audio Tapes\, Collectibles\, Hobby\, Crafts\, Small Appliances\, Sewing Clothing\, Housewares\, Furniture\, Fabric\, Tools & Artifacts\, Art & Wall Hangings\, selection of Garden Plants plus many other Treasures!\n\n\n\nProceeds for Museum Restoration & Development.
X-ALT-DESC;FMTTYPE=text/html:The <em><strong>Garden Grove Historical Society </strong></em>is holding its <strong><em>Barn &amp\; Book Sale</em></strong> from April 10\, 2014 through April 12\, 2014 at 8:00 am to 4:30 pm.<br />\n<br />\nThere will be Books\, Paperbacks\, Magazines\, Records\, CD&#39\;s\, DVD&#39\;s\, Video &amp\; Audio Tapes\, Collectibles\, Hobby\, Crafts\, Small Appliances\, Sewing Clothing\, Housewares\, Furniture\, Fabric\, Tools &amp\; Artifacts\, Art &amp\; Wall Hangings\, selection of Garden Plants plus many other Treasures!<br />\n<br />\nProceeds for Museum Restoration &amp\; Development.
LOCATION:Garden Grove Historical Society 12174 S. Euclid Street Garden Grove\, CA 92840
UID:e.1315.1503
SEQUENCE:3
DTSTAMP:20260424T191539Z
URL:http://member.gardengrovechamber.com/events/details/barn-book-sale-04-12-2014-1503
END:VEVENT

END:VCALENDAR
