BEGIN:VCALENDAR
VERSION:2.0
PRODID:-//ChamberMaster//Event Calendar 2.0//EN
METHOD:PUBLISH
X-PUBLISHED-TTL:P3D
REFRESH-INTERVAL:P3D
CALSCALE:GREGORIAN
BEGIN:VEVENT
DTSTART:20170504T010000Z
DTEND:20170504T033000Z
X-MICROSOFT-CDO-ALLDAYEVENT:FALSE
SUMMARY:Basic Sales and Use Tax
DESCRIPTION:Basic Sales and Use Tax Class - This instructor led class assists taxpayers in the following areas:\n\n\n\n1. Preparing a sales and use tax return\n\n2. Supporting and reporting exempt sales\n\n3. Using a resale certificate\n\n4. Determining what is taxable and non-taxable labor\n\n5. Maintaining adequate records\n\n\n\nSales and Use Tax Preparation Class - This instructor led class assists taxpayers in preparing a sales and use tax return. Participants are encouraged to bring in their own sales and use tax return along with any documentation pertaining to that return period.
X-ALT-DESC;FMTTYPE=text/html:<span style="font-size:12px\;"><span style="font-family:arial\;"><span style="color: rgb(0\, 0\, 0)\;">Basic Sales and Use Tax Class - This instructor led class assists taxpayers in the following areas:</span><br style="color: rgb(0\, 0\, 0)\; font-family: Lato\, Arial\, Helvetica\, sans-serif\; font-size: 16px\;" />\n<br style="color: rgb(0\, 0\, 0)\; font-family: Lato\, Arial\, Helvetica\, sans-serif\; font-size: 16px\;" />\n<span style="color: rgb(0\, 0\, 0)\;">1. Preparing a sales and use tax return</span><br style="color: rgb(0\, 0\, 0)\; font-family: Lato\, Arial\, Helvetica\, sans-serif\; font-size: 16px\;" />\n<span style="color: rgb(0\, 0\, 0)\;">2. Supporting and reporting exempt sales</span><br style="color: rgb(0\, 0\, 0)\; font-family: Lato\, Arial\, Helvetica\, sans-serif\; font-size: 16px\;" />\n<span style="color: rgb(0\, 0\, 0)\;">3. Using a resale certificate</span><br style="color: rgb(0\, 0\, 0)\; font-family: Lato\, Arial\, Helvetica\, sans-serif\; font-size: 16px\;" />\n<span style="color: rgb(0\, 0\, 0)\;">4. Determining what is taxable and non-taxable labor</span><br style="color: rgb(0\, 0\, 0)\; font-family: Lato\, Arial\, Helvetica\, sans-serif\; font-size: 16px\;" />\n<span style="color: rgb(0\, 0\, 0)\;">5. Maintaining adequate records</span><br style="color: rgb(0\, 0\, 0)\; font-family: Lato\, Arial\, Helvetica\, sans-serif\; font-size: 16px\;" />\n<br style="color: rgb(0\, 0\, 0)\; font-family: Lato\, Arial\, Helvetica\, sans-serif\; font-size: 16px\;" />\n<span style="color: rgb(0\, 0\, 0)\;">Sales and Use Tax Preparation Class - This instructor led class assists taxpayers in preparing a sales and use tax return. Participants are encouraged to bring in their own sales and use tax return along with any documentation pertaining to that return period.</span></span></span>\n<div>&nbsp\;</div>\n
LOCATION:Garden Grove Community Meeting Center 11300 Stanford Ave\, B Room\, Garden Grove CA 92840
UID:e.1315.6150
SEQUENCE:3
DTSTAMP:20260420T044315Z
URL:http://member.gardengrovechamber.com/events/details/basic-sales-and-use-tax-6150
END:VEVENT

END:VCALENDAR
