BEGIN:VCALENDAR
VERSION:2.0
PRODID:-//ChamberMaster//Event Calendar 2.0//EN
METHOD:PUBLISH
X-PUBLISHED-TTL:P3D
REFRESH-INTERVAL:P3D
CALSCALE:GREGORIAN
BEGIN:VEVENT
DTSTART:20161118T190000Z
DTEND:20161119T020000Z
X-MICROSOFT-CDO-ALLDAYEVENT:FALSE
SUMMARY:Baskets & Bargains - Assistance League of Garden Grove
DESCRIPTION:* Baskets & Bargains * \n\nThe Assistance League's Annual Shopping Bonanza has gotten even better!\n\n\n\nGrand Prize $1000 cash\n\n2nd Prize $500 cash\n\nDonations: 1 Ticket $3.00 - 2 Tickets $5.00 - 5 Tickets $10.00 - 15 Tickets $20.00\n\nWinner need not be present to win\n\n\n\nJoin us for this fun free event!\n\n\n\nBaskets\, Bargains\, Collectibles\, Glassware\, Toys\, Prizes\, Housewares\, Gift Certificates\, Plants\, Christmas Items\, Bake Sale\, Silent Auction\, Vendors\, Light Refreshments\n\n\n\nDrawings to held at 3:00 pm November 19\, 2016
X-ALT-DESC;FMTTYPE=text/html:* Baskets &amp\; Bargains *&nbsp\;<br />\nThe Assistance League&#39\;s Annual Shopping Bonanza has gotten even better!<br />\n<br />\nGrand Prize $1000 cash<br />\n2nd Prize $500 cash<br />\nDonations: 1 Ticket $3.00 - 2 Tickets $5.00 - 5 Tickets $10.00 - 15 Tickets $20.00<br />\nWinner need not be present to win<br />\n<br />\nJoin us for this fun free event!<br />\n<br />\nBaskets\, Bargains\, Collectibles\, Glassware\, Toys\, Prizes\, Housewares\, Gift Certificates\, Plants\, Christmas Items\, Bake Sale\, Silent Auction\, Vendors\, Light Refreshments<br />\n<br />\nDrawings to held at 3:00 pm November 19\, 2016&nbsp\;&nbsp\;&nbsp\;&nbsp\;
LOCATION:10932 Trask Avenue Garden Grove\, CA 92843
UID:e.1315.6025
SEQUENCE:3
DTSTAMP:20260420T140054Z
URL:http://member.gardengrovechamber.com/events/details/baskets-bargains-assistance-league-of-garden-grove-6025
END:VEVENT

END:VCALENDAR
