BEGIN:VCALENDAR
VERSION:2.0
PRODID:-//ChamberMaster//Event Calendar 2.0//EN
METHOD:PUBLISH
X-PUBLISHED-TTL:P3D
REFRESH-INTERVAL:P3D
CALSCALE:GREGORIAN
BEGIN:VEVENT
DTSTART:20120915T003000Z
DTEND:20120915T023000Z
X-MICROSOFT-CDO-ALLDAYEVENT:FALSE
SUMMARY:Big Ron's Auto Body & Paint Mixer
DESCRIPTION:Join us and Big Ron's Auto Body & Paint as we celebrate their 2012 Small Business of the Year Award and the Grand Re-Opening of the business!\n\n	\n\n	Food\, Refreshments\, Music and Fun!
X-ALT-DESC;FMTTYPE=text/html:<p>\n	<span style="color: #0000ff"><span style="font-size: 14px"><span style="font-family: comic sans ms">Join us and Big Ron&#39\;s Auto Body &amp\; Paint as we celebrate their 2012 Small Business of the Year Award and the Grand Re-Opening of the business!<br />\n	<br />\n	Food\, Refreshments\, Music and Fun!</span></span></span></p>\n
LOCATION:Big Ron's Auto Body & Paint\, Inc. 12781 Nelson St. Garden Grove\, CA 92840 Parking at St. Columban Church (Northeast corner of Stanford & Nelson)
UID:e.1315.670
SEQUENCE:3
DTSTAMP:20260426T024953Z
URL:http://member.gardengrovechamber.com/events/details/big-ron-s-auto-body-paint-mixer-09-14-2012-670
END:VEVENT

END:VCALENDAR
