BEGIN:VCALENDAR
VERSION:2.0
PRODID:-//ChamberMaster//Event Calendar 2.0//EN
METHOD:PUBLISH
X-PUBLISHED-TTL:P3D
REFRESH-INTERVAL:P3D
CALSCALE:GREGORIAN
BEGIN:VEVENT
DTSTART;VALUE=DATE:20161125
DTEND;VALUE=DATE:20161217
TRANSP:TRANSPARENT
X-MICROSOFT-CDO-ALLDAYEVENT:TRUE
SUMMARY:BiGG - Buy in Garden Grove 11/25 to 12/16
DESCRIPTION:The biggest shopping day of the year Black Friday goes "BiGG" by offering Garden Grove shoppers a chance to win some extra holiday cash.  From Friday\, November 25\, 2016 through Friday\, December 16\, the City's shop local program\, Buy in Garden Grove (BiGG)\, and the Garden Grove Chamber of Commerce will reward customers who make at least $50 in Garden Grove purchases\, with a chance to win $500.\n\n\n\n          For every $50 in total register receipts from local Garden Grove merchants\, customers will receive one raffle ticket towards a $500 cash drawing.  If purchases were made at a participating BiGG business\, or from a Garden Grove Chamber of Commerce business member\, customers will receive one additional raffle ticket. \n\n\n\nBusinesses that participate in the BiGG program offer special shopper discounts or incentives.  Participating businesses can be accessed from the City of Garden Grove website at www.ci.garden-grove.ca.us by clicking on the BiGG icon\, or through the free Garden Grove mobile app available via Play Store (iPhone/iPad) and Google Play Store (Android). Chamber of Commerce business members are listed on the Chamber website at www.gardengrovechamber.com.\n\n\n\nReceipts must be taken to the Garden Grove Chamber of Commerce office\, at 12866 Main Street\, Suite 102\, Garden Grove 92840\, to receive raffle tickets.  Raffle tickets will not be available at business establishments.  The first 100 customers to turn in their receipts will also receive a free thank-you gift from the Garden Grove Chamber of Commerce and the City of Garden Grove.\n\nThe deadline to turn in receipts is by 5:00 p.m.\, Friday\, December 18\, 2015.  Participants must be at least 18 years old to win.\n\n\n\nFrom all the entries received\, one winner will be chosen and the winning name will be posted on the City of Garden Grove and Garden Grove Chamber of Commerce websites and social media\, on Monday\, December 21\, 2015.  Winner must present winning raffle ticket to the Garden Grove Chamber of Commerce within 30 days to claim their prize.\n\n\n\nSince 2008\, the City's Buy in Garden Grove program has encouraged customers to support the local business economy as well as receive special discounts for shopping in Garden Grove.   Keeping purchases in Garden Grove keeps tax dollars in the community\, which is a crucial resource for providing public safety\, roads\, parks\, and other quality-of-life needs. Over 100 businesses\, ranging from auto repair to restaurants\, currently participate in the Buy in Garden Grove program\, offering special customer incentives.  There is no charge to become a participating Buy in Garden Grove business.\n\nFor more information\, visit the City's website\, or call the Office of Community Relations at (714) 741-5280\, or the Garden Grove Chamber of Commerce at (714) 638-7950.
X-ALT-DESC;FMTTYPE=text/html:The biggest shopping day of the year&mdash\;Black Friday&mdash\;goes &ldquo\;BiGG&rdquo\; by offering Garden Grove shoppers a chance to win some extra holiday cash.&nbsp\; From Friday\, November 25\, 2016 through Friday\, December 16\, the City&rsquo\;s shop local program\, <em>Buy in Garden Grove</em> (BiGG)\, and the Garden Grove Chamber of Commerce will reward customers who make at least $50 in Garden Grove purchases\, with a chance to win $500.<br />\n<br />\n&nbsp\;&nbsp\;&nbsp\;&nbsp\;&nbsp\;&nbsp\;&nbsp\;&nbsp\;&nbsp\; For every $50 in total register receipts from local Garden Grove merchants\, customers will receive one raffle ticket towards a $500 cash drawing.&nbsp\; If purchases were made at a participating BiGG business\, or from a Garden Grove Chamber of Commerce business member\, customers will receive one additional raffle ticket.&nbsp\;<br />\n<br />\nBusinesses that participate in the BiGG program offer special shopper discounts or incentives.&nbsp\; Participating businesses can be accessed from the City of Garden Grove website at <a href="http://www.ci.garden-grove.ca.us/">www.ci.garden-grove.ca.us</a> by clicking on the BiGG icon\, or through the free Garden Grove mobile app available via Play Store (iPhone/iPad) and Google Play Store (Android). Chamber of Commerce business members are listed on the Chamber website at <a href="http://www.gardengrovechamber.com/">www.gardengrovechamber.com</a>.<br />\n<br />\n<span style="line-height: 1.6\;">Receipts must be taken to the Garden Grove Chamber of Commerce office\, at 12866 Main Street\, Suite 102\, Garden Grove 92840\, to receive raffle tickets.&nbsp\; Raffle tickets will not be available at business establishments.&nbsp\; The first 100 customers to turn in their receipts will also receive a free thank-you gift from the Garden Grove Chamber of Commerce and the City of Garden Grove.</span><br />\nThe deadline to turn in receipts is by 5:00 p.m.\, Friday\, December 18\, 2015.&nbsp\; Participants must be at least 18 years old to win.<br />\n<br />\nFrom all the entries received\, one winner will be chosen and the winning name will be posted on the City of Garden Grove and Garden Grove Chamber of Commerce websites and social media\, on Monday\, December 21\, 2015.&nbsp\; Winner must present winning raffle ticket to the Garden Grove Chamber of Commerce within 30 days to claim their prize.<br />\n<br />\nSince 2008\, the City&rsquo\;s Buy in Garden Grove program has encouraged customers to support the local business economy as well as receive special discounts for shopping in Garden Grove.&nbsp\;&nbsp\; Keeping purchases in Garden Grove keeps tax dollars in the community\, which is a crucial resource for providing public safety\, roads\, parks\, and other quality-of-life needs. Over 100 businesses\, ranging from auto repair to restaurants\, currently participate in the Buy in Garden Grove program\, offering special customer incentives.&nbsp\; There is no charge to become a participating Buy in Garden Grove business.<br />\nFor more information\, visit the City&rsquo\;s website\, or call the Office of Community Relations at (714) 741-5280\, or the Garden Grove Chamber of Commerce at (714) 638-7950.
LOCATION:For a list of Garden Grove businesses participating in BiGG please go to: http://www.ci.garden-grove.ca.us/BuyInGardenGrove For Garden Grove Chamber of Commerce Members please go to: http://gardengrovechamber.chambermaster.com/list/
UID:e.1315.6021
SEQUENCE:3
DTSTAMP:20260420T122626Z
URL:http://member.gardengrovechamber.com/events/details/bigg-buy-in-garden-grove-11-25-to-12-16-6021
END:VEVENT

END:VCALENDAR
