BEGIN:VCALENDAR
VERSION:2.0
PRODID:-//ChamberMaster//Event Calendar 2.0//EN
METHOD:PUBLISH
X-PUBLISHED-TTL:P3D
REFRESH-INTERVAL:P3D
CALSCALE:GREGORIAN
BEGIN:VEVENT
DTSTART:20150115T193000Z
DTEND:20150115T210000Z
X-MICROSOFT-CDO-ALLDAYEVENT:FALSE
SUMMARY:Birthday Celebration Women's Division Luncheon
DESCRIPTION:Come join us at the Garden Grove Chamber Women's Division Luncheon held every third Thursday of the month (we go dark in July and August).  This month we are celebrating our Birthday!!!   Each month we have an interesting guest speaker.
X-ALT-DESC;FMTTYPE=text/html:Come join us at the Garden Grove Chamber Women&#39\;s Division Luncheon held every third Thursday of the month (we go dark in July and August). &nbsp\;This month we are celebrating our Birthday!!! &nbsp\; Each month we have an interesting guest speaker. &nbsp\;
LOCATION:Garden Grove Elks's Lodge 11551 Trask Avenue Garden Grove\, CA 92843
UID:e.1315.1749
SEQUENCE:3
DTSTAMP:20260424T061347Z
URL:http://member.gardengrovechamber.com/events/details/birthday-celebration-women-s-division-luncheon-01-15-2015-1749
END:VEVENT

END:VCALENDAR
