BEGIN:VCALENDAR
VERSION:2.0
PRODID:-//ChamberMaster//Event Calendar 2.0//EN
METHOD:PUBLISH
X-PUBLISHED-TTL:P3D
REFRESH-INTERVAL:P3D
CALSCALE:GREGORIAN
BEGIN:VEVENT
DTSTART:20170113T020000Z
DTEND:20170113T033000Z
X-MICROSOFT-CDO-ALLDAYEVENT:FALSE
SUMMARY:Boys & Girls Clubs of GG - Exhibit of the Arts 1-12-17
DESCRIPTION:Join the Boys & Girls Clubs of Garden Grove in celebrating the artistic talents of their club members! The event is an open house showcase and families are welcome to arrive between 6:00 and 7:30 pm. Light refreshments will be served.
X-ALT-DESC;FMTTYPE=text/html:Join the Boys &amp\; Girls Clubs of Garden Grove in celebrating the artistic talents of their club members! The event is an open house showcase and families are welcome to arrive between 6:00 and 7:30 pm. Light refreshments will be served.&nbsp\;
LOCATION:Courtyard Community Center 12732 Main Street\, Garden Grove\, CA 92840
UID:e.1315.6060
SEQUENCE:3
DTSTAMP:20260420T122814Z
URL:http://member.gardengrovechamber.com/events/details/boys-girls-clubs-of-gg-exhibit-of-the-arts-1-12-17-6060
END:VEVENT

END:VCALENDAR
