BEGIN:VCALENDAR
VERSION:2.0
PRODID:-//ChamberMaster//Event Calendar 2.0//EN
METHOD:PUBLISH
X-PUBLISHED-TTL:P3D
REFRESH-INTERVAL:P3D
CALSCALE:GREGORIAN
BEGIN:VEVENT
DTSTART:20141005T140000Z
DTEND:20141005T180000Z
X-MICROSOFT-CDO-ALLDAYEVENT:FALSE
SUMMARY:Bruce Beauchamp Memorial Pancake Breakfast
DESCRIPTION:The Garden Grove Lions Club and Garden Grove Kiwanis Club will be hosting the Bruce Beauchamp Memorial Pancake Breakfast with pancakes\, eggs\, sausage\, juice\, coffee and milk.
X-ALT-DESC;FMTTYPE=text/html:The Garden Grove Lions Club and Garden Grove Kiwanis Club will be hosting the <strong><em>Bruce Beauchamp&nbsp\;Memorial Pancake Breakfast </em></strong>with pancakes\, eggs\, sausage\, juice\, coffee and milk.
LOCATION:Kiwanisland Youth Park 9840 Larson Avenue Garden Grove\, CA 92844
UID:e.1315.2098
SEQUENCE:3
DTSTAMP:20260424T114648Z
URL:http://member.gardengrovechamber.com/events/details/bruce-beauchamp-memorial-pancake-breakfast-10-05-2014-2098
END:VEVENT

END:VCALENDAR
