BEGIN:VCALENDAR
VERSION:2.0
PRODID:-//ChamberMaster//Event Calendar 2.0//EN
METHOD:PUBLISH
X-PUBLISHED-TTL:P3D
REFRESH-INTERVAL:P3D
CALSCALE:GREGORIAN
BEGIN:VEVENT
DTSTART:20130115T173000Z
DTEND:20130115T183000Z
X-MICROSOFT-CDO-ALLDAYEVENT:FALSE
SUMMARY:Business & Education Committee Meeting
DESCRIPTION:Business & Education Committee Meeting
X-ALT-DESC;FMTTYPE=text/html:<p>\n	Business &amp\; Education Committee Meeting<br />\n	&nbsp\;</p>\n
LOCATION:GG Chamber Office 12866 Main St. #102 Garden Grove\, CA 92840
UID:e.1315.699
SEQUENCE:3
DTSTAMP:20260425T204344Z
URL:http://member.gardengrovechamber.com/events/details/business-education-committee-meeting-01-15-2013-699
END:VEVENT

END:VCALENDAR
