BEGIN:VCALENDAR
VERSION:2.0
PRODID:-//ChamberMaster//Event Calendar 2.0//EN
METHOD:PUBLISH
X-PUBLISHED-TTL:P3D
REFRESH-INTERVAL:P3D
CALSCALE:GREGORIAN
BEGIN:VEVENT
DTSTART:20130521T163000Z
DTEND:20130521T173000Z
X-MICROSOFT-CDO-ALLDAYEVENT:FALSE
SUMMARY:Business & Education Committee Meeting
DESCRIPTION:Business & Education Committee Meeting
X-ALT-DESC;FMTTYPE=text/html:<p>\n	Business &amp\; Education Committee Meeting<br />\n	&nbsp\;</p>\n
LOCATION:GG Chamber Office 12866 Main St. #102 Garden Grove\, CA 92840
UID:e.1315.703
SEQUENCE:3
DTSTAMP:20260425T140343Z
URL:http://member.gardengrovechamber.com/events/details/business-education-committee-meeting-05-21-2013-703
END:VEVENT

END:VCALENDAR
