BEGIN:VCALENDAR
VERSION:2.0
PRODID:-//ChamberMaster//Event Calendar 2.0//EN
METHOD:PUBLISH
X-PUBLISHED-TTL:P3D
REFRESH-INTERVAL:P3D
CALSCALE:GREGORIAN
BEGIN:VEVENT
DTSTART:20140617T163000Z
DTEND:20140617T173000Z
X-MICROSOFT-CDO-ALLDAYEVENT:FALSE
SUMMARY:Business & Education Meeting
DESCRIPTION:Business and Education Meeting
X-ALT-DESC;FMTTYPE=text/html:Business and Education Meeting
LOCATION:Garden Grove Chamber of Commerce 12866 Main Street\, Suite 102 Garden Grove\, CA 92840
UID:e.1315.1329
SEQUENCE:3
DTSTAMP:20260424T161012Z
URL:http://member.gardengrovechamber.com/events/details/business-education-meeting-06-17-2014-1329
END:VEVENT

END:VCALENDAR
