BEGIN:VCALENDAR
VERSION:2.0
PRODID:-//ChamberMaster//Event Calendar 2.0//EN
METHOD:PUBLISH
X-PUBLISHED-TTL:P3D
REFRESH-INTERVAL:P3D
CALSCALE:GREGORIAN
BEGIN:VEVENT
DTSTART:20180208T152000Z
DTEND:20180208T163000Z
X-MICROSOFT-CDO-ALLDAYEVENT:FALSE
SUMMARY:Business to Business Breakfast Meeting 02-08-18
DESCRIPTION:Business to Business Breakfast Meetings is an opportunity to hear from three different Chamber Members. They will each give a 15 minute pitch about what their business can offer you. \n\n\n\nThis meeting we will hear from:\n\n\n\nFred Giron of PHD Insurance\n\n"Get to Know Some Common Home Insurance Gaps"\n\n\n\nSteve Harding of American Family Housing\n\n"Homeless Issues Facing Orange County"\n\n\n\nSusie Clisson of West County Tire & Automotive\, Inc.\n\n"Auto Shop Talk"\n\n\n\nBring plenty of your business cards and to further promote your business\, bring a door prize!
X-ALT-DESC;FMTTYPE=text/html:Business to Business Breakfast Meetings is an opportunity to hear from three different Chamber Members. They will each give a 15 minute pitch about what their business can offer you.&nbsp\;<br />\n<br />\nThis meeting we will hear from:<br />\n<br />\n<strong>Fred Giron of PHD Insurance<br />\n<em>&quot\;Get to Know Some Common Home Insurance Gaps&quot\;</em></strong><br />\n<br />\n<strong>Steve Harding of American Family Housing<br />\n<em>&quot\;Homeless Issues Facing Orange County&quot\;</em></strong><br />\n<br />\n<strong>Susie Clisson of West County Tire &amp\; Automotive\, Inc.<br />\n<em>&quot\;Auto Shop Talk&quot\;</em></strong><br />\n<br />\nBring plenty of your business cards and to further promote your business\, bring a door prize!
LOCATION:Anaheim Marriott Suites 12015 Harbor Blvd. Garden Grove\, CA 92840
UID:e.1315.6263
SEQUENCE:3
DTSTAMP:20260419T164829Z
URL:http://member.gardengrovechamber.com/events/details/business-to-business-breakfast-meeting-02-08-18-6263
END:VEVENT

END:VCALENDAR
