BEGIN:VCALENDAR
VERSION:2.0
PRODID:-//ChamberMaster//Event Calendar 2.0//EN
METHOD:PUBLISH
X-PUBLISHED-TTL:P3D
REFRESH-INTERVAL:P3D
CALSCALE:GREGORIAN
BEGIN:VEVENT
DTSTART:20171109T152000Z
DTEND:20171109T163000Z
X-MICROSOFT-CDO-ALLDAYEVENT:FALSE
SUMMARY:Business to Business Breakfast Meeting 11-9-17
DESCRIPTION:Business to Business Breakfast Meetings is an opportunity to hear from three different Chamber Members. They will each give a 15 minute pitch about what their business can offer you. \n\n\n\nThis meeting we will hear from:\n\n\n\nKelly Anvari of Visiting Angels\n\n"Home Care for the Holidays"\n\nHow to maintain a healthy balance between work and personal life while caring for your loved ones.  It's easy to neglect one while the other seems overwhelming\, but with a proper life balance you will see many aspects of your life and business become less stressful.  \n\n\n\nClay Bock of Integrity Jewelers\n\n"The Evolution of the Jewelry Business"\n\n\n\nDaniel Edwards of Edwards VoIP Solutions\n\n"Securing the Internet"\n\n\n\nBring plenty of your business cards and to further promote your business\, bring a door prize!
X-ALT-DESC;FMTTYPE=text/html:Business to Business Breakfast Meetings is an opportunity to hear from three different Chamber Members. They will each give a 15 minute pitch about what their business can offer you.&nbsp\;<br />\n<br />\nThis meeting we will hear from:<br />\n<br />\n<strong>Kelly Anvari of Visiting Angels<br />\n<em>&quot\;Home Care for the Holidays&quot\;</em></strong><br />\nHow to maintain a healthy balance between work and personal life while caring for your loved ones.&nbsp\; It&#39\;s easy to neglect one while the other seems overwhelming\, but with a proper life balance you will see many aspects of your life and business become less stressful.&nbsp\;&nbsp\;<br />\n<br />\n<strong>Clay Bock of Integrity Jewelers<br />\n<em>&quot\;The Evolution of the Jewelry Business&quot\;</em></strong><br />\n<br />\n<strong>Daniel Edwards of Edwards VoIP Solutions<br />\n<em>&quot\;Securing the Internet&quot\;</em></strong><br />\n<br />\nBring plenty of your business cards and to further promote your business\, bring a door prize!
LOCATION:Wyndham Anaheim Garden Grove 12021 Harbor Blvd\, Garden Grove\, CA 92840
UID:e.1315.6238
SEQUENCE:3
DTSTAMP:20260419T194648Z
URL:http://member.gardengrovechamber.com/events/details/business-to-business-breakfast-meeting-11-9-17-6238
END:VEVENT

END:VCALENDAR
