BEGIN:VCALENDAR
VERSION:2.0
PRODID:-//ChamberMaster//Event Calendar 2.0//EN
METHOD:PUBLISH
X-PUBLISHED-TTL:P3D
REFRESH-INTERVAL:P3D
CALSCALE:GREGORIAN
BEGIN:VEVENT
DTSTART:20170503T142000Z
DTEND:20170503T153000Z
X-MICROSOFT-CDO-ALLDAYEVENT:FALSE
SUMMARY:Business to Business Breakfast Meeting
DESCRIPTION:Business to Business Breakfast Meetings is a new opportunity to hear from three different Chamber Members. They will each give a 10 minute pitch about what their business can offer you. \n\n\n\nThis meeting we will hear from:\n\n\n\nAndrea Williams from Elwyn California on "Hiring Individuals with Disabilities"\n\n\n\nVan Gordon of Van Nguyen Gordon Insurance and Financial Services on "The Benefits of Having a Group Retirement Plan to Your Business"\n\n\n\nCurtis Gibbs of Community Action Partnership of Orange County on "Who is the Community Action Partnership of Orange County?"\n\n\n\nBring plenty of your business cards and to further promote your business\, bring a door prize!
X-ALT-DESC;FMTTYPE=text/html:Business to Business Breakfast Meetings is a new opportunity to hear from three different Chamber Members. They will each give a 10 minute pitch about what their business can offer you.&nbsp\;<br />\n<br />\nThis meeting we will hear from:<br />\n<br />\nAndrea Williams from Elwyn California on &quot\;Hiring Individuals with Disabilities&quot\;<br />\n<br />\nVan Gordon of Van Nguyen Gordon Insurance and Financial Services on &quot\;The Benefits of Having a Group Retirement Plan to Your Business&quot\;<br />\n<br />\nCurtis Gibbs of Community Action Partnership of Orange County on &quot\;Who is the Community Action Partnership of Orange County?&quot\;<br />\n<br />\nBring plenty of your business cards and to further promote your business\, bring a door prize!
LOCATION:Great Wolf Lodge of Southern California 12681 Harbor Blvd.\, Garden Grove\, CA 92840
UID:e.1315.6144
SEQUENCE:3
DTSTAMP:20260420T045207Z
URL:http://member.gardengrovechamber.com/events/details/business-to-business-breakfast-meeting-6144
END:VEVENT

END:VCALENDAR
