BEGIN:VCALENDAR
VERSION:2.0
PRODID:-//ChamberMaster//Event Calendar 2.0//EN
METHOD:PUBLISH
X-PUBLISHED-TTL:P3D
REFRESH-INTERVAL:P3D
CALSCALE:GREGORIAN
BEGIN:VEVENT
DTSTART:20161021T052000Z
DTEND:20161021T052500Z
X-MICROSOFT-CDO-ALLDAYEVENT:FALSE
SUMMARY:California ShakeOut Drill
DESCRIPTION:Millions of people worldwide will practice how to Drop\, Cover\, and Hold On at 10:20 a.m. on October 20* during Great ShakeOut Earthquake Drills\, which began in California in 2008.\n\nParticipating is a great way for your family or organization to be prepared to survive and recover quickly from big earthquakes  wherever you live\, work\, or travel. ShakeOut is also a major activity of America's PrepareAthon!
X-ALT-DESC;FMTTYPE=text/html:<p style="margin: 16px\; padding: 0px\; color: rgb(66\, 66\, 66)\; font-family: Arial\, Helvetica\, sans-serif\; background-color: rgb(205\, 218\, 233)\; font-size: 15px\;">Millions of people worldwide will practice how to&nbsp\;<a href="http://www.shakeout.org/california/dropcoverholdon/" style="color: rgb(0\, 91\, 148)\;">Drop\, Cover\, and Hold On</a>&nbsp\;at 10:20 a.m. on October 20* during&nbsp\;<a href="http://www.shakeout.org/" style="color: rgb(0\, 91\, 148)\;" target="_blank"><i>Great ShakeOut Earthquake Drills</i></a>\, which began in California in 2008.</p>\n\n<p style="margin: 16px\; padding: 0px\; color: rgb(66\, 66\, 66)\; font-family: Arial\, Helvetica\, sans-serif\; background-color: rgb(205\, 218\, 233)\; font-size: 15px\;">Participating is a great way for&nbsp\;<a href="http://www.shakeout.org/california/howtoparticipate" style="color: rgb(0\, 91\, 148)\;">your family or organization</a>&nbsp\;to be prepared to survive and recover quickly from big earthquakes&ndash\; wherever you live\, work\, or travel. ShakeOut is also a major activity of&nbsp\;<a href="https://community.fema.gov/" style="color: rgb(0\, 91\, 148)\;">America&#39\;s</a><a href="https://community.fema.gov/" style="color: rgb(0\, 91\, 148)\;"> PrepareAthon!</a></p>\n
LOCATION:
UID:e.1315.6015
SEQUENCE:3
DTSTAMP:20260420T151405Z
URL:http://member.gardengrovechamber.com/events/details/california-shakeout-drill-6015
END:VEVENT

END:VCALENDAR
