BEGIN:VCALENDAR
VERSION:2.0
PRODID:-//ChamberMaster//Event Calendar 2.0//EN
METHOD:PUBLISH
X-PUBLISHED-TTL:P3D
REFRESH-INTERVAL:P3D
CALSCALE:GREGORIAN
BEGIN:VEVENT
DTSTART:20141004T180000Z
DTEND:20141004T210000Z
X-MICROSOFT-CDO-ALLDAYEVENT:FALSE
SUMMARY:Candidates Forum at GEM Theater on Historical Main Street
DESCRIPTION:All are invited by the Garden Grove Neighborhood Association and Garden Grove Downtown Business Association hosts this Candidates Forum.  Enjoy an "Oktoberfest Brats Bar" hosted by Doug's Downtown Grill for only $5.00.\n\n\n\nSubmit questions for the candidates to maureen.ggna@gmail.com or 714-235-5360.\n\n\n\n*Venue changed from The Main Street Parking due to heat advisories.
X-ALT-DESC;FMTTYPE=text/html:<span style="font-size:14px\;">All are invited by the Garden Grove Neighborhood Association and Garden Grove Downtown Business Association hosts this Candidates Forum. &nbsp\;Enjoy an &quot\;Oktoberfest&nbsp\;Brats Bar&quot\; hosted by Doug&#39\;s Downtown Grill for only $5.00.</span><br />\n<br />\nSubmit questions for the candidates to <em>maureen.ggna@gmail.com</em> or 714-235-5360.<br />\n<br />\n<strong>*Venue changed from The Main Street Parking due to heat advisories.</strong>
LOCATION:The GEM Theater 12852 Main Street Garden Grove\, CA 92840
UID:e.1315.2235
SEQUENCE:3
DTSTAMP:20260424T103644Z
URL:http://member.gardengrovechamber.com/events/details/candidates-forum-at-gem-theater-on-historical-main-street-10-04-2014-2235
END:VEVENT

END:VCALENDAR
