BEGIN:VCALENDAR
VERSION:2.0
PRODID:-//ChamberMaster//Event Calendar 2.0//EN
METHOD:PUBLISH
X-PUBLISHED-TTL:P3D
REFRESH-INTERVAL:P3D
CALSCALE:GREGORIAN
BEGIN:VEVENT
DTSTART:20140226T200000Z
DTEND:20140226T213000Z
X-MICROSOFT-CDO-ALLDAYEVENT:FALSE
SUMMARY:Card Bingo Party
DESCRIPTION:Woman's Civic Club of Garden Grove is hosting the Card Bingo Party.  Come join us for lunch\, prizes and raffles.
X-ALT-DESC;FMTTYPE=text/html:Woman&#39\;s Civic Club of Garden Grove is hosting the Card Bingo Party. &nbsp\;Come join us for lunch\, prizes and raffles.
LOCATION:Woman's Civic Club of Garden Grove 9501 Chapman Avenue @ Gilbert Street Garden Grove\, CA 92841
UID:e.1315.1491
SEQUENCE:3
DTSTAMP:20260425T001646Z
URL:http://member.gardengrovechamber.com/events/details/card-bingo-party-02-26-2014-1491
END:VEVENT

END:VCALENDAR
