BEGIN:VCALENDAR
VERSION:2.0
PRODID:-//ChamberMaster//Event Calendar 2.0//EN
METHOD:PUBLISH
X-PUBLISHED-TTL:P3D
REFRESH-INTERVAL:P3D
CALSCALE:GREGORIAN
BEGIN:VEVENT
DTSTART:20161111T013000Z
DTEND:20161111T033000Z
X-MICROSOFT-CDO-ALLDAYEVENT:FALSE
SUMMARY:Caregiver Night Out - Acacia Adult Day Services
DESCRIPTION:Caregiver Night Out - A Night Out to Celebrate You\n\n\n\nCome join Acacia Adult Days Services as they enjoy a night out with live musical entertainment and refreshments.
X-ALT-DESC;FMTTYPE=text/html:Caregiver Night Out - A Night Out to Celebrate You<br />\n<br />\nCome join Acacia Adult Days Services as they enjoy a night out with live musical entertainment and refreshments.&nbsp\;&nbsp\;&nbsp\;&nbsp\;&nbsp\;
LOCATION:Acacia Adult Day Services 11391 Acacia Pkwy. Garden Grove\, CA 92940
UID:e.1315.6027
SEQUENCE:3
DTSTAMP:20260420T151901Z
URL:http://member.gardengrovechamber.com/events/details/caregiver-night-out-acacia-adult-day-services-11-10-2016-6027
END:VEVENT

END:VCALENDAR
