BEGIN:VCALENDAR
VERSION:2.0
PRODID:-//ChamberMaster//Event Calendar 2.0//EN
METHOD:PUBLISH
X-PUBLISHED-TTL:P3D
REFRESH-INTERVAL:P3D
CALSCALE:GREGORIAN
BEGIN:VEVENT
DTSTART:20161118T013000Z
DTEND:20161118T033000Z
X-MICROSOFT-CDO-ALLDAYEVENT:FALSE
SUMMARY:Caregiver Night Out - Acacia Adult Day Services
DESCRIPTION:Caregiver Night Out - A Night Out to Celebrate You\n\n\n\nCome join Acacia Adult Days Services as they enjoy a night out with live musical entertainment and refreshments.
X-ALT-DESC;FMTTYPE=text/html:Caregiver Night Out - A Night Out to Celebrate You<br />\n<br />\nCome join Acacia Adult Days Services as they enjoy a night out with live musical entertainment and refreshments.&nbsp\;&nbsp\;&nbsp\;&nbsp\;&nbsp\;
LOCATION:Alzheimer's Family Services Center 9451 Indianapolis Ave. Huntington Beach\, CA 92646
UID:e.1315.6028
SEQUENCE:3
DTSTAMP:20260420T140312Z
URL:http://member.gardengrovechamber.com/events/details/caregiver-night-out-acacia-adult-day-services-6028
END:VEVENT

END:VCALENDAR
