BEGIN:VCALENDAR
VERSION:2.0
PRODID:-//ChamberMaster//Event Calendar 2.0//EN
METHOD:PUBLISH
X-PUBLISHED-TTL:P3D
REFRESH-INTERVAL:P3D
CALSCALE:GREGORIAN
BEGIN:VEVENT
DTSTART:20160428T000000Z
DTEND:20160428T020000Z
X-MICROSOFT-CDO-ALLDAYEVENT:FALSE
SUMMARY:Celebrate H.O.P.E. and their participation in I heart OC
DESCRIPTION:Please join H.O.P.E. in their celebration and participation in the 2nd Annual I heart OC Giving Day Campaign with an Evening of desserts\, refreshments\, door prizes\, and live music performed by H.O.P.E. students & instructors
X-ALT-DESC;FMTTYPE=text/html:Please join H.O.P.E. in their celebration and participation in the 2nd Annual I heart OC Giving Day Campaign with an Evening of desserts\, refreshments\, door prizes\, and live music performed by H.O.P.E. students &amp\; instructors
LOCATION:H.O.P.E. 11022 Acacia Parkway Suite C Garden Grove\, CA 92840
UID:e.1315.5396
SEQUENCE:3
DTSTAMP:20260421T005648Z
URL:http://member.gardengrovechamber.com/events/details/celebrate-h-o-p-e-and-their-participation-in-i-heart-oc-04-27-2016-5396
END:VEVENT

END:VCALENDAR
