BEGIN:VCALENDAR
VERSION:2.0
PRODID:-//ChamberMaster//Event Calendar 2.0//EN
METHOD:PUBLISH
X-PUBLISHED-TTL:P3D
REFRESH-INTERVAL:P3D
CALSCALE:GREGORIAN
BEGIN:VEVENT
DTSTART:20161224T180000Z
DTEND:20161225T020000Z
X-MICROSOFT-CDO-ALLDAYEVENT:FALSE
SUMMARY:Celebrate the Holidays with Working Wardrobes!
DESCRIPTION:The Garden Grove Outlet Shop invites you to come and celebrate the holidays with them!\n\n\n\nEnjoy refreshments\, music and amazing shopping!\n\n\n\nPlus with a minimum purchase of $25.00 you'll be entered into a raffle to win awesome prizes! And if you bring a donation of gently loved clothing or accessories in with you during this week\, you'll receive 40% off you entire purchase that day!\n\n\n\nShop with Working Wardrobes & you'll look fabulous for your special gathering this holiday season!
X-ALT-DESC;FMTTYPE=text/html:The Garden Grove Outlet Shop invites you to come and celebrate the holidays with them!<br />\n<br />\nEnjoy refreshments\, music and amazing shopping!<br />\n<br />\nPlus with a minimum purchase of $25.00 you&#39\;ll be entered into a raffle to win awesome prizes! And if you bring a donation of gently loved clothing or accessories in with you during this week\, you&#39\;ll receive 40% off you entire purchase that day!<br />\n<br />\nShop with Working Wardrobes &amp\; you&#39\;ll look fabulous for your special gathering this holiday season!
LOCATION:12761 Harbor Blvd. Garden Grove
UID:e.1315.6057
SEQUENCE:3
DTSTAMP:20260420T134244Z
URL:http://member.gardengrovechamber.com/events/details/celebrate-the-holidays-with-working-wardrobes-12-24-2016-6057
END:VEVENT

END:VCALENDAR
