BEGIN:VCALENDAR
VERSION:2.0
PRODID:-//ChamberMaster//Event Calendar 2.0//EN
METHOD:PUBLISH
X-PUBLISHED-TTL:P3D
REFRESH-INTERVAL:P3D
CALSCALE:GREGORIAN
BEGIN:VEVENT
DTSTART:20131219T013000Z
DTEND:20131219T033000Z
X-MICROSOFT-CDO-ALLDAYEVENT:FALSE
SUMMARY:Chamber Christmas Mixer
DESCRIPTION:Join us for our Annual Garden Grove Chamber Christmas Mixer.  This is a great networking opportunity\, so be sure to bring your business cards.  There will be a door prize drawing also.\n\n\n\nDoor prize donations are welcome\, but not required.
X-ALT-DESC;FMTTYPE=text/html:<em>Join us for our Annual Garden Grove Chamber Christmas Mixer. &nbsp\;This is a great networking opportunity\, so be sure to bring your business cards. &nbsp\;There will be a door prize drawing also.<br />\n<br />\nDoor prize donations are welcome\, but not required.</em>
LOCATION:Farmers & Merchants Bank 10422 Garden Grove Blvd. Garden Grove\, CA 92843
UID:e.1315.1320
SEQUENCE:3
DTSTAMP:20260425T015530Z
URL:http://member.gardengrovechamber.com/events/details/chamber-christmas-mixer-12-18-2013-1320
END:VEVENT

END:VCALENDAR
