BEGIN:VCALENDAR
VERSION:2.0
PRODID:-//ChamberMaster//Event Calendar 2.0//EN
METHOD:PUBLISH
X-PUBLISHED-TTL:P3D
REFRESH-INTERVAL:P3D
CALSCALE:GREGORIAN
BEGIN:VEVENT
DTSTART:20150716T003000Z
DTEND:20150716T020000Z
X-MICROSOFT-CDO-ALLDAYEVENT:FALSE
SUMMARY:Chamber Mixer at AMF Valley View Lanes!
DESCRIPTION:Join us for this entertaining mixer at AMF Valley View Lanes!\n\nBe sure to bring your business cards for the opportunity raffle. \n\nRefreshments will be provided. \n\nPlease make sure to RSVP for this event!
X-ALT-DESC;FMTTYPE=text/html:Join us for this entertaining mixer at AMF Valley View Lanes!<br />\nBe sure to bring your business cards for the opportunity raffle.&nbsp\;<br />\nRefreshments will be provided.&nbsp\;<br />\nPlease make sure to RSVP for this event!
LOCATION:AMF Valley View Lanes 12141 Valley View Street Garden Grove\, CA 92845
UID:e.1315.3068
SEQUENCE:3
DTSTAMP:20260423T205425Z
URL:http://member.gardengrovechamber.com/events/details/chamber-mixer-at-amf-valley-view-lanes-07-15-2015-3068
END:VEVENT

END:VCALENDAR
