BEGIN:VCALENDAR
VERSION:2.0
PRODID:-//ChamberMaster//Event Calendar 2.0//EN
METHOD:PUBLISH
X-PUBLISHED-TTL:P3D
REFRESH-INTERVAL:P3D
CALSCALE:GREGORIAN
BEGIN:VEVENT
DTSTART:20160218T013000Z
DTEND:20160218T030000Z
X-MICROSOFT-CDO-ALLDAYEVENT:FALSE
SUMMARY:Chamber Mixer at the Assistance League of Garden Grove
DESCRIPTION:Join us at the Assistance League of Garden Grove for our Monthly Chamber Mixer. Refreshments will be provided. Be sure to bring your business cards.\n\n\n\nPromote your business even further by bringing something to be raffled off.  If you are unable to attend\, you can bring your raffle item with your business card attached to the Chamber Office.
X-ALT-DESC;FMTTYPE=text/html:Join us at the&nbsp\;Assistance League of Garden Grove for our <strong>Monthly Chamber Mixer.</strong>&nbsp\;Refreshments will be provided. Be sure to bring your business cards.<br />\n<br />\n<strong style="line-height: 20.7999992370605px\;"><em>Promote your business even further by bringing something to be raffled off. &nbsp\;If you are unable to attend\, you can bring your raffle item with your business card attached to the Chamber Office.</em></strong>
LOCATION:Assistance League of Garden Grove 10932 Trask Avenue Garden Grove\, CA 92843
UID:e.1315.4968
SEQUENCE:3
DTSTAMP:20260421T042706Z
URL:http://member.gardengrovechamber.com/events/details/chamber-mixer-at-the-assistance-league-of-garden-grove-02-17-2016-4968
END:VEVENT

END:VCALENDAR
