BEGIN:VCALENDAR
VERSION:2.0
PRODID:-//ChamberMaster//Event Calendar 2.0//EN
METHOD:PUBLISH
X-PUBLISHED-TTL:P3D
REFRESH-INTERVAL:P3D
CALSCALE:GREGORIAN
BEGIN:VEVENT
DTSTART:20160317T003000Z
DTEND:20160317T020000Z
X-MICROSOFT-CDO-ALLDAYEVENT:FALSE
SUMMARY:Chamber Mixer at the Garden Grove Historical Society
DESCRIPTION:Join us at the Garden Grove Historical Society for our Monthly Chamber Mixer. Refreshments will be provided. Be sure to bring your business cards.\n\n\n\nPromote your business even further by bringing something to be raffled off.  If you are unable to attend\, you can bring your raffle item with your business card attached to the Chamber Office.
X-ALT-DESC;FMTTYPE=text/html:Join us at the&nbsp\;Garden Grove Historical Society for our <strong>Monthly Chamber Mixer.</strong>&nbsp\;Refreshments will be provided. Be sure to bring your business cards.<br />\n<br />\n<strong style="line-height: 20.7999992370605px\;"><em>Promote your business even further by bringing something to be raffled off. &nbsp\;If you are unable to attend\, you can bring your raffle item with your business card attached to the Chamber Office.</em></strong>
LOCATION:Garden Grove Historical Society 12174 Euclid Street Garden Grove\, CA 92842
UID:e.1315.5104
SEQUENCE:3
DTSTAMP:20260421T024347Z
URL:http://member.gardengrovechamber.com/events/details/chamber-mixer-at-the-garden-grove-historical-society-03-16-2016-5104
END:VEVENT

END:VCALENDAR
