BEGIN:VCALENDAR
VERSION:2.0
PRODID:-//ChamberMaster//Event Calendar 2.0//EN
METHOD:PUBLISH
X-PUBLISHED-TTL:P3D
REFRESH-INTERVAL:P3D
CALSCALE:GREGORIAN
BEGIN:VEVENT
DTSTART:20160121T013000Z
DTEND:20160121T030000Z
X-MICROSOFT-CDO-ALLDAYEVENT:FALSE
SUMMARY:Chamber Mixer & Ribbon Cutting at The File Depot
DESCRIPTION:Join us at our monthly mixer and help welcome The File Depot to Garden Grove with a Mixer/Ribbon Cutting Ceremony!
X-ALT-DESC;FMTTYPE=text/html:Join us at our monthly mixer and help welcome The File Depot to Garden Grove with a Mixer/Ribbon Cutting Ceremony!&nbsp\;&nbsp\;&nbsp\;&nbsp\;
LOCATION:The File Depot 11887 Woodbury Road Garden Grove\, CA 92843
UID:e.1315.4967
SEQUENCE:3
DTSTAMP:20260421T054559Z
URL:http://member.gardengrovechamber.com/events/details/chamber-mixer-ribbon-cutting-at-the-file-depot-01-20-2016-4967
END:VEVENT

END:VCALENDAR
