BEGIN:VCALENDAR
VERSION:2.0
PRODID:-//ChamberMaster//Event Calendar 2.0//EN
METHOD:PUBLISH
X-PUBLISHED-TTL:P3D
REFRESH-INTERVAL:P3D
CALSCALE:GREGORIAN
BEGIN:VEVENT
DTSTART:20151113T023000Z
DTEND:20151113T053000Z
X-MICROSOFT-CDO-ALLDAYEVENT:FALSE
SUMMARY:Chamber's Bowling Tournament
DESCRIPTION:The Garden Grove Chamber's Bowling Tournament for members and their employees! Our Membership Appreciation Bowling Tournament is a fabulous way to meet local businesses and network.
X-ALT-DESC;FMTTYPE=text/html:<p>The Garden Grove Chamber&#39\;s Bowling Tournament for members and their employees! Our Membership Appreciation Bowling Tournament is a fabulous way to meet local businesses and network.&nbsp\;</p>\n
LOCATION:AMF Valley View Lanes 12141 Valley View Street Garden Grove\, CA 92845
UID:e.1315.3219
SEQUENCE:3
DTSTAMP:20260423T163126Z
URL:http://member.gardengrovechamber.com/events/details/chamber-s-bowling-tournament-11-12-2015-3219
END:VEVENT

END:VCALENDAR
